BEGIN:VCALENDAR
VERSION:2.0
PRODID:-//RKJ Solo Dios - ECPv4.6.25//NONSGML v1.0//EN
CALSCALE:GREGORIAN
METHOD:PUBLISH
X-WR-CALNAME:RKJ Solo Dios
X-ORIGINAL-URL:http://rkjsolodios.nl
X-WR-CALDESC:Events for RKJ Solo Dios
BEGIN:VEVENT
DTSTART;TZID=Europe/Amsterdam:20150512T190000
DTEND;TZID=Europe/Amsterdam:20150512T220000
DTSTAMP:20260420T135041
CREATED:20150317T073226Z
LAST-MODIFIED:20150319T094406Z
UID:31-1431457200-1431468000@rkjsolodios.nl
SUMMARY:RKJ Bijeenkomst Mei 2015
DESCRIPTION:Thema: Beelden en Afbeeldingen in de Kerk \n
URL:http://rkjsolodios.nl/agenda/bijeenkomst-mei-2015/
LOCATION:Antonius\, Burgemeester de Raadtsingel 45\, Dordrecht\, 3311 JG\, Nederland
CATEGORIES:Bijeenkomsten
END:VEVENT
END:VCALENDAR