BEGIN:VCALENDAR
VERSION:2.0
PRODID:-//RKJ Solo Dios - ECPv4.6.25//NONSGML v1.0//EN
CALSCALE:GREGORIAN
METHOD:PUBLISH
X-WR-CALNAME:RKJ Solo Dios
X-ORIGINAL-URL:http://rkjsolodios.nl
X-WR-CALDESC:Events for RKJ Solo Dios
BEGIN:VEVENT
DTSTART;TZID=Europe/Amsterdam:20160405T190000
DTEND;TZID=Europe/Amsterdam:20160405T220000
DTSTAMP:20260420T164348
CREATED:20150718T205026Z
LAST-MODIFIED:20150720T114714Z
UID:67-1459882800-1459893600@rkjsolodios.nl
SUMMARY:RKJ Bijeenkomst April 2016
DESCRIPTION:Thema: Nederdaling ter helle door gastspreker: Prof. Herwi Rikhof \nDeze bijeenkomst is samen met de geloofsleerlingen. \n
URL:http://rkjsolodios.nl/agenda/rkj-bijeenkomst-april-2016/
LOCATION:Antonius\, Burgemeester de Raadtsingel 45\, Dordrecht\, 3311 JG\, Nederland
CATEGORIES:Bijeenkomsten
END:VEVENT
END:VCALENDAR