BEGIN:VCALENDAR
VERSION:2.0
PRODID:-//RKJ Solo Dios - ECPv4.6.25//NONSGML v1.0//EN
CALSCALE:GREGORIAN
METHOD:PUBLISH
X-WR-CALNAME:RKJ Solo Dios
X-ORIGINAL-URL:http://rkjsolodios.nl
X-WR-CALDESC:Events for RKJ Solo Dios
BEGIN:VEVENT
DTSTART;TZID=Europe/Amsterdam:20160202T190000
DTEND;TZID=Europe/Amsterdam:20160202T220000
DTSTAMP:20260420T134848
CREATED:20150718T205026Z
LAST-MODIFIED:20150720T114819Z
UID:64-1454439600-1454450400@rkjsolodios.nl
SUMMARY:RKJ Bijeenkomst Februari 2016
DESCRIPTION:Thema: Kerkmuziek (deel 2) door gastspreker: Robert van Herk \n
URL:http://rkjsolodios.nl/agenda/rkj-bijeenkomst-februari-2016/
LOCATION:Antonius\, Burgemeester de Raadtsingel 45\, Dordrecht\, 3311 JG\, Nederland
CATEGORIES:Bijeenkomsten
END:VEVENT
END:VCALENDAR