BEGIN:VCALENDAR
VERSION:2.0
PRODID:-//RKJ Solo Dios - ECPv4.6.25//NONSGML v1.0//EN
CALSCALE:GREGORIAN
METHOD:PUBLISH
X-WR-CALNAME:RKJ Solo Dios
X-ORIGINAL-URL:http://rkjsolodios.nl
X-WR-CALDESC:Events for RKJ Solo Dios
BEGIN:VEVENT
DTSTART;TZID=Europe/Amsterdam:20161004T190000
DTEND;TZID=Europe/Amsterdam:20161004T220000
DTSTAMP:20260420T134948
CREATED:20160812T172807Z
LAST-MODIFIED:20160812T175657Z
UID:521-1475607600-1475618400@rkjsolodios.nl
SUMMARY:RKJ Bijeenkomst "Filmavond"
DESCRIPTION:
URL:http://rkjsolodios.nl/agenda/rkj-bijeenkomst-filmavond/
LOCATION:Antonius\, Burgemeester de Raadtsingel 45\, Dordrecht\, 3311 JG\, Nederland
CATEGORIES:Bijeenkomsten
END:VEVENT
END:VCALENDAR