BEGIN:VCALENDAR
VERSION:2.0
PRODID:-//RKJ Solo Dios - ECPv4.6.25//NONSGML v1.0//EN
CALSCALE:GREGORIAN
METHOD:PUBLISH
X-WR-CALNAME:RKJ Solo Dios
X-ORIGINAL-URL:http://rkjsolodios.nl
X-WR-CALDESC:Events for RKJ Solo Dios
BEGIN:VEVENT
DTSTART;TZID=Europe/Amsterdam:20170502T190000
DTEND;TZID=Europe/Amsterdam:20170502T220000
DTSTAMP:20260420T135248
CREATED:20160812T174720Z
LAST-MODIFIED:20160812T175735Z
UID:529-1493751600-1493762400@rkjsolodios.nl
SUMMARY:RKJ Bijeenkomst "Kerk in Oorlogstijd"
DESCRIPTION:
URL:http://rkjsolodios.nl/agenda/rkj-bijeenkomst-kerk-in-oorlogstijd/
LOCATION:Antonius\, Burgemeester de Raadtsingel 45\, Dordrecht\, 3311 JG\, Nederland
CATEGORIES:Bijeenkomsten
END:VEVENT
END:VCALENDAR