BEGIN:VCALENDAR
VERSION:2.0
PRODID:-//RKJ Solo Dios - ECPv4.6.25//NONSGML v1.0//EN
CALSCALE:GREGORIAN
METHOD:PUBLISH
X-WR-CALNAME:RKJ Solo Dios
X-ORIGINAL-URL:http://rkjsolodios.nl
X-WR-CALDESC:Events for RKJ Solo Dios
BEGIN:VEVENT
DTSTART;TZID=Europe/Amsterdam:20170207T190000
DTEND;TZID=Europe/Amsterdam:20170207T220000
DTSTAMP:20260420T134849
CREATED:20160812T174136Z
LAST-MODIFIED:20160812T175722Z
UID:526-1486494000-1486504800@rkjsolodios.nl
SUMMARY:RKJ Bijeenkomst "Kerkmuziek (deel 3)"
DESCRIPTION:
URL:http://rkjsolodios.nl/agenda/rkj-bijeenkomst-kerkmuziek-deel-3/
LOCATION:Antonius\, Burgemeester de Raadtsingel 45\, Dordrecht\, 3311 JG\, Nederland
CATEGORIES:Bijeenkomsten
END:VEVENT
END:VCALENDAR