BEGIN:VCALENDAR
VERSION:2.0
PRODID:-//RKJ Solo Dios - ECPv4.6.25//NONSGML v1.0//EN
CALSCALE:GREGORIAN
METHOD:PUBLISH
X-WR-CALNAME:RKJ Solo Dios
X-ORIGINAL-URL:http://rkjsolodios.nl
X-WR-CALDESC:Events for RKJ Solo Dios
BEGIN:VEVENT
DTSTART;TZID=Europe/Amsterdam:20170905T190000
DTEND;TZID=Europe/Amsterdam:20170905T220000
DTSTAMP:20260420T134650
CREATED:20170817T160620Z
LAST-MODIFIED:20170817T160620Z
UID:740-1504638000-1504648800@rkjsolodios.nl
SUMMARY:RKJ Bijeenkomst "Orthodoxe Kerk"
DESCRIPTION:
URL:http://rkjsolodios.nl/agenda/rkj-bijeenkomst-orthodoxe-kerk/
LOCATION:Antonius\, Burgemeester de Raadtsingel 45\, Dordrecht\, 3311 JG\, Nederland
CATEGORIES:Bijeenkomsten
END:VEVENT
END:VCALENDAR