BEGIN:VCALENDAR
VERSION:2.0
PRODID:-//RKJ Solo Dios - ECPv4.6.25//NONSGML v1.0//EN
CALSCALE:GREGORIAN
METHOD:PUBLISH
X-WR-CALNAME:RKJ Solo Dios
X-ORIGINAL-URL:http://rkjsolodios.nl
X-WR-CALDESC:Events for RKJ Solo Dios
BEGIN:VEVENT
DTSTART;TZID=Europe/Amsterdam:20160906T190000
DTEND;TZID=Europe/Amsterdam:20160906T220000
DTSTAMP:20260420T150824
CREATED:20160812T172619Z
LAST-MODIFIED:20160812T175649Z
UID:520-1473188400-1473199200@rkjsolodios.nl
SUMMARY:RKJ Bijeenkomst "Rangen & Standen"
DESCRIPTION:
URL:http://rkjsolodios.nl/agenda/rkj-bijeenkomst-rangen-standen/
LOCATION:Antonius\, Burgemeester de Raadtsingel 45\, Dordrecht\, 3311 JG\, Nederland
CATEGORIES:Bijeenkomsten
END:VEVENT
END:VCALENDAR