BEGIN:VCALENDAR
VERSION:2.0
PRODID:-//RKJ Solo Dios - ECPv4.6.25//NONSGML v1.0//EN
CALSCALE:GREGORIAN
METHOD:PUBLISH
X-WR-CALNAME:RKJ Solo Dios
X-ORIGINAL-URL:http://rkjsolodios.nl
X-WR-CALDESC:Events for RKJ Solo Dios
BEGIN:VEVENT
DTSTART;TZID=Europe/Amsterdam:20180403T190000
DTEND;TZID=Europe/Amsterdam:20180403T220000
DTSTAMP:20260420T135151
CREATED:20170817T161526Z
LAST-MODIFIED:20170817T161526Z
UID:756-1522782000-1522792800@rkjsolodios.nl
SUMMARY:RKJ Bijeenkomst "Wereldkerk"
DESCRIPTION:
URL:http://rkjsolodios.nl/agenda/rkj-bijeenkomst-wereldkerk/
LOCATION:Antonius\, Burgemeester de Raadtsingel 45\, Dordrecht\, 3311 JG\, Nederland
CATEGORIES:Bijeenkomsten
END:VEVENT
END:VCALENDAR