BEGIN:VCALENDAR
VERSION:2.0
PRODID:-//RKJ Solo Dios - ECPv4.6.25//NONSGML v1.0//EN
CALSCALE:GREGORIAN
METHOD:PUBLISH
X-WR-CALNAME:RKJ Solo Dios
X-ORIGINAL-URL:http://rkjsolodios.nl
X-WR-CALDESC:Events for RKJ Solo Dios
BEGIN:VEVENT
DTSTART;TZID=Europe/Amsterdam:20170520T200000
DTEND;TZID=Europe/Amsterdam:20170520T235500
DTSTAMP:20260420T132356
CREATED:20170216T185117Z
LAST-MODIFIED:20170318T200625Z
UID:591-1495310400-1495324500@rkjsolodios.nl
SUMMARY:RKJ Borrelavond
DESCRIPTION:
URL:http://rkjsolodios.nl/agenda/rkj-borrelavond-4/
LOCATION:RKJ Zolder Antonius\, Burgemeester de Raadtsingel 45 \, Dordrecht\, 3311 JG\, Nederland
CATEGORIES:Borrel
END:VEVENT
END:VCALENDAR