BEGIN:VCALENDAR
VERSION:2.0
PRODID:-//RKJ Solo Dios - ECPv4.6.25//NONSGML v1.0//EN
CALSCALE:GREGORIAN
METHOD:PUBLISH
X-WR-CALNAME:RKJ Solo Dios
X-ORIGINAL-URL:http://rkjsolodios.nl
X-WR-CALDESC:Events for RKJ Solo Dios
BEGIN:VEVENT
DTSTART;TZID=Europe/Amsterdam:20180807T200000
DTEND;TZID=Europe/Amsterdam:20180807T235900
DTSTAMP:20260420T132412
CREATED:20170817T162010Z
LAST-MODIFIED:20170817T162010Z
UID:764-1533672000-1533686340@rkjsolodios.nl
SUMMARY:RKJ Borrelavond
DESCRIPTION:
URL:http://rkjsolodios.nl/agenda/rkj-borrelavond-6/
LOCATION:RKJ Zolder Antonius\, Burgemeester de Raadtsingel 45 \, Dordrecht\, 3311 JG\, Nederland
CATEGORIES:Borrel
END:VEVENT
END:VCALENDAR