BEGIN:VCALENDAR
VERSION:2.0
PRODID:-//RKJ Solo Dios - ECPv4.6.25//NONSGML v1.0//EN
CALSCALE:GREGORIAN
METHOD:PUBLISH
X-WR-CALNAME:RKJ Solo Dios
X-ORIGINAL-URL:http://rkjsolodios.nl
X-WR-CALDESC:Events for RKJ Solo Dios
BEGIN:VEVENT
DTSTART;TZID=Europe/Amsterdam:20160806T193000
DTEND;TZID=Europe/Amsterdam:20160806T235500
DTSTAMP:20260420T134209
CREATED:20160805T054246Z
LAST-MODIFIED:20160805T054246Z
UID:517-1470511800-1470527700@rkjsolodios.nl
SUMMARY:RKJ mid-zomer borrel
DESCRIPTION:
URL:http://rkjsolodios.nl/agenda/rkj-mid-zomer-borrel/
LOCATION:RKJ Zolder Antonius\, Burgemeester de Raadtsingel 45 \, Dordrecht\, 3311 JG\, Nederland
CATEGORIES:Activiteiten
END:VEVENT
END:VCALENDAR