BEGIN:VCALENDAR
VERSION:2.0
PRODID:-//RKJ Solo Dios - ECPv4.6.25//NONSGML v1.0//EN
CALSCALE:GREGORIAN
METHOD:PUBLISH
X-WR-CALNAME:RKJ Solo Dios
X-ORIGINAL-URL:http://rkjsolodios.nl
X-WR-CALDESC:Events for RKJ Solo Dios
BEGIN:VEVENT
DTSTART;TZID=Europe/Amsterdam:20180323T180000
DTEND;TZID=Europe/Amsterdam:20180325T150000
DTSTAMP:20260420T145859
CREATED:20180227T164543Z
LAST-MODIFIED:20180302T061136Z
UID:930-1521828000-1521990000@rkjsolodios.nl
SUMMARY:RKJ Weekend Rotterdam
DESCRIPTION:
URL:http://rkjsolodios.nl/agenda/rkj-weekend-rotterdam/
LOCATION:Marie Galante\, Veerhaven 15\, Rotterdam\, 3016DE\, Nederland
CATEGORIES:Activiteiten,Reizen
END:VEVENT
END:VCALENDAR