BEGIN:VCALENDAR
VERSION:2.0
PRODID:-//RKJ Solo Dios - ECPv4.6.25//NONSGML v1.0//EN
CALSCALE:GREGORIAN
METHOD:PUBLISH
X-WR-CALNAME:RKJ Solo Dios
X-ORIGINAL-URL:http://rkjsolodios.nl
X-WR-CALDESC:Events for RKJ Solo Dios
BEGIN:VEVENT
DTSTART;VALUE=DATE:20160718
DTEND;VALUE=DATE:20160803
DTSTAMP:20260420T151149
CREATED:20160318T193543Z
LAST-MODIFIED:20160318T193543Z
UID:380-1468800000-1470182399@rkjsolodios.nl
SUMMARY:WJD Krakau 2016 - Let's Go!
DESCRIPTION:De Wereldjongerendagen (WJD) zijn het grootste jongerenevenement ter wereld. Honderdduizenden jongeren uit de hele wereld komen samen om het katholieke geloof te vieren. WJD betekent dan ook nieuwe vrienden maken\, nieuwe culturen leren kennen\, feest vieren\, samen de heilige eucharistie beleven\, je grenzen verleggen en vooral heel veel gezelligheid. Het belooft een ervaring te worden om nooit te vergeten. Dus wees erbij in juli 2016! \n
URL:http://rkjsolodios.nl/agenda/wjd-krakau-2016-lets-go/
LOCATION:Krakau\, Krakau\, Polen
CATEGORIES:Reizen
END:VEVENT
END:VCALENDAR